BEGIN:VCALENDAR
VERSION:2.0
PRODID:-//Fundația Spirit Românesc - ECPv6.15.20//NONSGML v1.0//EN
CALSCALE:GREGORIAN
METHOD:PUBLISH
X-ORIGINAL-URL:http://fundatiaspiritromanesc.ro
X-WR-CALDESC:Events for Fundația Spirit Românesc
REFRESH-INTERVAL;VALUE=DURATION:PT1H
X-Robots-Tag:noindex
X-PUBLISHED-TTL:PT1H
BEGIN:VTIMEZONE
TZID:UTC
BEGIN:STANDARD
TZOFFSETFROM:+0000
TZOFFSETTO:+0000
TZNAME:UTC
DTSTART:20160101T000000
END:STANDARD
END:VTIMEZONE
BEGIN:VEVENT
DTSTART;TZID=UTC:20180814T190000
DTEND;TZID=UTC:20180814T203000
DTSTAMP:20260421T114408
CREATED:20180803T222102Z
LAST-MODIFIED:20180803T224245Z
UID:999-1534273200-1534278600@fundatiaspiritromanesc.ro
SUMMARY:Teatrul Zamora invitat la Zilele Culturii din Bușteni
DESCRIPTION:14 august 2018 – Centrul Cultural Aurel Stroe din Bușteni  \nTeatrul Zamora va avea un spectacol cu doua piese scurte\, Întâlnire în parc de Alexandra Ares și Buletinul Meteo de Dinu Grigorescu. \nRegia: Horia Bârleanu.
URL:http://fundatiaspiritromanesc.ro/evenimente_/teatrul-zamora-la-centrul-aurel-stroe-din-busteni/
LOCATION:Centrul Cultural Aurel Stroe din Busteni
END:VEVENT
BEGIN:VEVENT
DTSTART;TZID=UTC:20180216T190000
DTEND;TZID=UTC:20180216T210000
DTSTAMP:20260421T114408
CREATED:20180201T081907Z
LAST-MODIFIED:20180201T081941Z
UID:947-1518807600-1518814800@fundatiaspiritromanesc.ro
SUMMARY:"Meteo" & "Magazinul cu bărbați" la Teatrul Dramaturgilor Români din București
DESCRIPTION:Vineri 16 Februarie 2018\, București – Teatrul Zamora din Sinaia vine în turneu la Teatrul Dramaturgilor din București cu un spectacol de piese scurte: Buletinul Meteo de Dinu Grigorescu\, Magazinul cu Bărbați\, Central Park și Cealaltă fată de Alexandra Ares.
URL:http://fundatiaspiritromanesc.ro/evenimente_/meteo-magazinul-cu-barbati-la-teatrul-dramaturgilor-romani-din-bucuresti/
CATEGORIES:Spectacole si Evenimente,Teatrul Zamora
END:VEVENT
BEGIN:VEVENT
DTSTART;TZID=UTC:20170310T080000
DTEND;TZID=UTC:20170310T170000
DTSTAMP:20260421T114408
CREATED:20170310T083206Z
LAST-MODIFIED:20170310T083206Z
UID:647-1489132800-1489165200@fundatiaspiritromanesc.ro
SUMMARY:Premiera: Magazinul de Bărbați la Cazinoul din Sinaia
DESCRIPTION:Sinaia\, 4 Martie 2017 – Teatrul Zamora a prezentat la Sala Ferdinant al Cazinoului din Sinaia premiera spectacolului coupe MAGAZINUL CU BĂRBAȚI\, compus din trei piese scurte scrise de Alexandra Ares: Pisica\, Central Park și Magazinul cu bărbați. Regia: Valeria Ioniță.
URL:http://fundatiaspiritromanesc.ro/evenimente_/premiera-magazinul-de-barbati-la-cazinoul-din-sinaia/
END:VEVENT
BEGIN:VEVENT
DTSTART;TZID=UTC:20170308T183000
DTEND;TZID=UTC:20170308T193000
DTSTAMP:20260421T114408
CREATED:20170310T081531Z
LAST-MODIFIED:20170310T093102Z
UID:641-1488997800-1489001400@fundatiaspiritromanesc.ro
SUMMARY:Spectacol coupe Magazinul de Bărbați la Palatul Stirbey din Sinaia
DESCRIPTION:  \nSinaia\, Palatul Știrbey\, 8 Martie\, 2017 –  Cu prilejul sărbătoriri zilei internaționale a femeii Teatrul Zamora a oferit drept mărțișor cultural un spectacol gratuit cu MAGAZINUL DE BĂRBAȚI\, trei piese scurte: Pisica\, Central Park și Magazinul de Bărbați. \nAutor:  Alexandra Ares la Palatul Stirbey\, Muzeul Orașului Sinaia. \nRegia: Valeria Ioniță \nDistribuție: Valeria Ioniță\, Cristina Nicolae\, Luiza Bianu\, Cecilia Francu\, Roxana Mangiulea\, Virgil Nicolae\, Horia Barleanu\, Cristina Achim\, Ana Bogz\, Marius Bratosin\, Andrei Boarcăș. \n 
URL:http://fundatiaspiritromanesc.ro/evenimente_/spectacol-coupe-magazinul-de-barbati-la-palatul-stirbey-din-sinaia/
LOCATION:Palatul Stirbey\, Muzeul Orașului Sinaia\, Bd. Carol I nr.28\, Sinaia\, 106100\, Romania
ORGANIZER;CN="Fundatia Spirit Romanesc":MAILTO:fundatiaspiritromanesc@gamil.com
END:VEVENT
END:VCALENDAR